BEGIN:VCALENDAR
VERSION:2.0
PRODID:-//Tukios.com/
BEGIN:VEVENT
UID:6153d434-c0f6-4d10-897d-5ddc4241d9b4@www.mackiefh.com
DTSTAMP:20260420T000206Z
DTSTART:20260423T190000Z
DTEND:20260423T200000Z
SUMMARY:Funeral Service
DESCRIPTION:
URL:https://www.mackiefh.com/obituaries/robert-williams
LOCATION:New Vision Baptist Fellowship Church 4858 Grace Chapel Road  
	Granite Falls NC 28630
GEO:35.7974948;-81.3600216
END:VEVENT
END:VCALENDAR