BEGIN:VCALENDAR
VERSION:2.0
PRODID:-//Tukios.com/
BEGIN:VEVENT
UID:8eeb1e12-d258-4689-93b3-179b3b176cd4@www.mackiefh.com
DTSTAMP:20260420T000320Z
DTSTART:20260423T180000Z
DTEND:20260423T190000Z
SUMMARY:Visitation
DESCRIPTION:
URL:https://www.mackiefh.com/obituaries/robert-williams
LOCATION:New Vision Baptist Fellowship Church 4858 Grace Chapel Road  
	Granite Falls NC 28630
GEO:35.7974948;-81.3600216
END:VEVENT
END:VCALENDAR