BEGIN:VCALENDAR
VERSION:2.0
PRODID:-//Tukios.com/
BEGIN:VEVENT
UID:075333ca-0056-4449-a8fe-e49ede9b09db@www.mackiefh.com
DTSTAMP:20260425T184430Z
DTSTART:20260427T200000Z
DTEND:20260427T210000Z
SUMMARY:Funeral Service
DESCRIPTION:
URL:https://www.mackiefh.com/obituaries/lewis-summerow
LOCATION:Oxford Memorial Baptist Church North Carolina 90  Taylorsville 
	NC 28681
GEO:35.921681;-81.1798612
END:VEVENT
END:VCALENDAR